BEGIN:VCALENDAR
VERSION:2.0
PRODID:-//Florida Marvels - ECPv6.15.20//NONSGML v1.0//EN
CALSCALE:GREGORIAN
METHOD:PUBLISH
X-WR-CALNAME:Florida Marvels
X-ORIGINAL-URL:https://www.floridamarvels.com
X-WR-CALDESC:Events for Florida Marvels
REFRESH-INTERVAL;VALUE=DURATION:PT1H
X-Robots-Tag:noindex
X-PUBLISHED-TTL:PT1H
BEGIN:VTIMEZONE
TZID:America/New_York
BEGIN:DAYLIGHT
TZOFFSETFROM:-0500
TZOFFSETTO:-0400
TZNAME:EDT
DTSTART:20250309T070000
END:DAYLIGHT
BEGIN:STANDARD
TZOFFSETFROM:-0400
TZOFFSETTO:-0500
TZNAME:EST
DTSTART:20251102T060000
END:STANDARD
BEGIN:DAYLIGHT
TZOFFSETFROM:-0500
TZOFFSETTO:-0400
TZNAME:EDT
DTSTART:20260308T070000
END:DAYLIGHT
BEGIN:STANDARD
TZOFFSETFROM:-0400
TZOFFSETTO:-0500
TZNAME:EST
DTSTART:20261101T060000
END:STANDARD
BEGIN:DAYLIGHT
TZOFFSETFROM:-0500
TZOFFSETTO:-0400
TZNAME:EDT
DTSTART:20270314T070000
END:DAYLIGHT
BEGIN:STANDARD
TZOFFSETFROM:-0400
TZOFFSETTO:-0500
TZNAME:EST
DTSTART:20271107T060000
END:STANDARD
END:VTIMEZONE
BEGIN:VEVENT
DTSTART;TZID=America/New_York:20260228T204500
DTEND;TZID=America/New_York:20260228T204500
DTSTAMP:20260422T145741
CREATED:20251217T170126Z
LAST-MODIFIED:20251217T170126Z
UID:10005811-1772311500-1772311500@www.floridamarvels.com
SUMMARY:Candlelight: Tribute to Coldplay & Imagine Dragons
DESCRIPTION:Join fellow music lovers for an unforgettable evening at the Ann & David Hicks Auditorium\, where the enchanting glow of candlelight will set the stage for a captivating tribute to two of the biggest bands of our time: Coldplay and Imagine Dragons. On Saturday\, February 28\, 2026\, at 8:45 PM\, attendees will be immersed in a unique musical experience that celebrates the emotional depth and anthemic energy of these iconic artists. \nAs the melodies fill the air\, the ambiance will provide a warm and inviting atmosphere perfect for friends\, family\, and fans alike. Expect a night filled with nostalgia and connection\, as talented musicians pay homage to the unforgettable hits that have shaped a generation. The combination of soft candlelight and powerful performances promises to create a truly magical vibe. \nWhether you’re a die-hard fan of Coldplay\, a loyal follower of Imagine Dragons\, or simply looking for a special night out\, this event is sure to leave a lasting impression. Don’t miss this chance to experience music in a whole new light. Grab your tickets and be part of this extraordinary tribute!
URL:https://www.floridamarvels.com/event/candlelight-tribute-to-coldplay-imagine-dragons/
LOCATION:Ann & David Hicks Auditorium at Jacksonville Public Library\, 303 N. Main St.\, Jacksonville\, Florida\, 32202\, United States of America
CATEGORIES:Concerts,Music
ATTACH;FMTTYPE=image/png:https://www.floridamarvels.com/wp-content/uploads/2025/08/AnnDavidHicksAuditoriumJacksonvillePublicLibrary_Candlelight_2025-01-16_2025-01-16_0700_01162025_075616_SVGC_tn-ixtLXU.png
GEO:30.3286801;-81.6569649
X-APPLE-STRUCTURED-LOCATION;VALUE=URI;X-ADDRESS=Ann & David Hicks Auditorium at Jacksonville Public Library 303 N. Main St. Jacksonville Florida 32202 United States of America;X-APPLE-RADIUS=500;X-TITLE=303 N. Main St.:geo:-81.6569649,30.3286801
END:VEVENT
END:VCALENDAR