BEGIN:VCALENDAR
VERSION:2.0
PRODID:-//Florida Marvels - ECPv6.15.20//NONSGML v1.0//EN
CALSCALE:GREGORIAN
METHOD:PUBLISH
X-ORIGINAL-URL:https://www.floridamarvels.com
X-WR-CALDESC:Events for Florida Marvels
REFRESH-INTERVAL;VALUE=DURATION:PT1H
X-Robots-Tag:noindex
X-PUBLISHED-TTL:PT1H
BEGIN:VTIMEZONE
TZID:America/New_York
BEGIN:DAYLIGHT
TZOFFSETFROM:-0500
TZOFFSETTO:-0400
TZNAME:EDT
DTSTART:20250309T070000
END:DAYLIGHT
BEGIN:STANDARD
TZOFFSETFROM:-0400
TZOFFSETTO:-0500
TZNAME:EST
DTSTART:20251102T060000
END:STANDARD
BEGIN:DAYLIGHT
TZOFFSETFROM:-0500
TZOFFSETTO:-0400
TZNAME:EDT
DTSTART:20260308T070000
END:DAYLIGHT
BEGIN:STANDARD
TZOFFSETFROM:-0400
TZOFFSETTO:-0500
TZNAME:EST
DTSTART:20261101T060000
END:STANDARD
BEGIN:DAYLIGHT
TZOFFSETFROM:-0500
TZOFFSETTO:-0400
TZNAME:EDT
DTSTART:20270314T070000
END:DAYLIGHT
BEGIN:STANDARD
TZOFFSETFROM:-0400
TZOFFSETTO:-0500
TZNAME:EST
DTSTART:20271107T060000
END:STANDARD
END:VTIMEZONE
BEGIN:VEVENT
DTSTART;TZID=America/New_York:20260315T080000
DTEND;TZID=America/New_York:20260315T080000
DTSTAMP:20260423T062251
CREATED:20260215T190150Z
LAST-MODIFIED:20260215T190150Z
UID:10001476-1773561600-1773561600@www.floridamarvels.com
SUMMARY:The Players Championship - Sunday
DESCRIPTION:Join the excitement at The Players Championship on Sunday\, March 15\, 2026\, at TPC Sawgrass in Ponte Vedra Beach. As one of golf’s premier events\, this day promises a vibrant atmosphere filled with passionate fans and breathtaking moments on the course.  \nSpectators can expect to see top-ranked players as they navigate the iconic 17th hole\, known for its dramatic island green. The energy will be palpable as friends and families come together to cheer for their favorites\, creating a lively and supportive community spirit. With stunning views\, delicious local food options\, and engaging activities throughout the venue\, there’s something for everyone to enjoy. \nWhether you’re a seasoned golf enthusiast or a newcomer to the sport\, The Players Championship offers an unforgettable experience. Soak in the sun\, savor the thrill of the competition\, and make lasting memories.  \nDon’t miss your chance to be part of this incredible event—grab your tickets today!
URL:https://www.floridamarvels.com/event/the-players-championship-sunday/
LOCATION:TPC Sawgrass\, 110 Tpc Blvd\, Ponte Vedra Beach\, FL\, 32082\, United States
CATEGORIES:Golf,Sports
ATTACH;FMTTYPE=image/png:https://www.floridamarvels.com/wp-content/uploads/2025/08/TPCSawgrass_Golf_2024-12-30_2024-12-30_1620_12302024_162608_SVGC_tn-asB62n.png
GEO:30.2044115;-81.3915931
X-APPLE-STRUCTURED-LOCATION;VALUE=URI;X-ADDRESS=TPC Sawgrass 110 Tpc Blvd Ponte Vedra Beach FL 32082 United States;X-APPLE-RADIUS=500;X-TITLE=110 Tpc Blvd:geo:-81.3915931,30.2044115
END:VEVENT
END:VCALENDAR