BEGIN:VCALENDAR
VERSION:2.0
PRODID:-//Florida Marvels - ECPv6.15.20//NONSGML v1.0//EN
CALSCALE:GREGORIAN
METHOD:PUBLISH
X-WR-CALNAME:Florida Marvels
X-ORIGINAL-URL:https://www.floridamarvels.com
X-WR-CALDESC:Events for Florida Marvels
REFRESH-INTERVAL;VALUE=DURATION:PT1H
X-Robots-Tag:noindex
X-PUBLISHED-TTL:PT1H
BEGIN:VTIMEZONE
TZID:America/New_York
BEGIN:DAYLIGHT
TZOFFSETFROM:-0500
TZOFFSETTO:-0400
TZNAME:EDT
DTSTART:20260308T070000
END:DAYLIGHT
BEGIN:STANDARD
TZOFFSETFROM:-0400
TZOFFSETTO:-0500
TZNAME:EST
DTSTART:20261101T060000
END:STANDARD
BEGIN:DAYLIGHT
TZOFFSETFROM:-0500
TZOFFSETTO:-0400
TZNAME:EDT
DTSTART:20270314T070000
END:DAYLIGHT
BEGIN:STANDARD
TZOFFSETFROM:-0400
TZOFFSETTO:-0500
TZNAME:EST
DTSTART:20271107T060000
END:STANDARD
BEGIN:DAYLIGHT
TZOFFSETFROM:-0500
TZOFFSETTO:-0400
TZNAME:EDT
DTSTART:20280312T070000
END:DAYLIGHT
BEGIN:STANDARD
TZOFFSETFROM:-0400
TZOFFSETTO:-0500
TZNAME:EST
DTSTART:20281105T060000
END:STANDARD
END:VTIMEZONE
BEGIN:VEVENT
DTSTART;TZID=America/New_York:20270309T033000
DTEND;TZID=America/New_York:20270309T033000
DTSTAMP:20260423T045313
CREATED:20260408T101632Z
LAST-MODIFIED:20260408T101632Z
UID:10015945-1804563000-1804563000@www.floridamarvels.com
SUMMARY:The Players Championship - Weekly Pass
DESCRIPTION:Join the excitement at The Players Championship with a Weekly Pass\, taking place on Tuesday\, March 9\, 2027\, at TPC Sawgrass in Ponte Vedra Beach. This premier golf event promises an exhilarating atmosphere\, where fans can witness some of the world’s top golfers compete on one of the most iconic courses. \nAttendees can expect a vibrant ambiance filled with camaraderie and passion for the sport. With stunning views of the meticulously maintained greens and the famous 17th hole\, there’s no shortage of unforgettable moments. The event will feature various activities\, allowing guests to immerse themselves in the spirit of the game while enjoying the local food and drink offerings. \nWhether you’re a dedicated golf enthusiast or a casual spectator\, this event offers something for everyone. Experience the thrill of live competition in a picturesque setting\, surrounded by fellow fans who share your love for the sport.  \nDon’t miss your chance to be part of this unforgettable week at TPC Sawgrass. Grab your tickets and get ready for an incredible experience!
URL:https://www.floridamarvels.com/event/the-players-championship-weekly-pass/
LOCATION:TPC Sawgrass\, 110 Tpc Blvd\, Ponte Vedra Beach\, FL\, 32082\, United States
CATEGORIES:Golf,Sports
ATTACH;FMTTYPE=image/png:https://www.floridamarvels.com/wp-content/uploads/2026/04/SawgrassPonteVedraBeach_PlayersChampionship_2021-11-10_2021-11-10_1310_11102021_132840_SVGC_tn-UMJBRm.png
GEO:30.2044115;-81.3915931
X-APPLE-STRUCTURED-LOCATION;VALUE=URI;X-ADDRESS=TPC Sawgrass 110 Tpc Blvd Ponte Vedra Beach FL 32082 United States;X-APPLE-RADIUS=500;X-TITLE=110 Tpc Blvd:geo:-81.3915931,30.2044115
END:VEVENT
BEGIN:VEVENT
DTSTART;TZID=America/New_York:20270309T080000
DTEND;TZID=America/New_York:20270309T080000
DTSTAMP:20260423T045313
CREATED:20260408T101706Z
LAST-MODIFIED:20260408T101706Z
UID:10015941-1804579200-1804579200@www.floridamarvels.com
SUMMARY:The Players Championship - Tuesday
DESCRIPTION:Join the excitement at TPC Sawgrass for The Players Championship on Tuesday\, March 9\, 2027\, starting at 8:00 AM. This renowned golf tournament promises a day filled with thrilling competition and a vibrant atmosphere. Guests can expect to witness world-class players showcasing their skills on one of the most iconic courses in the sport\, all while soaking in the beautiful Florida sunshine. \nWith a backdrop of lush landscapes and the stunning 17th hole\, the event offers a unique chance to connect with fellow golf enthusiasts and enjoy the camaraderie that comes with live sports. Attendees can explore various fan experiences\, savor delicious local cuisine\, and cheer on their favorite players as they navigate the challenges of the course. \nWhether you’re a seasoned fan or new to the game\, The Players Championship provides a perfect blend of excitement and relaxation. Don’t miss this opportunity to be part of a celebrated tradition that captivates both players and spectators alike.  \nSecure your tickets today and get ready for an unforgettable day at TPC Sawgrass!
URL:https://www.floridamarvels.com/event/the-players-championship-tuesday-2/
LOCATION:TPC Sawgrass\, 110 Tpc Blvd\, Ponte Vedra Beach\, FL\, 32082\, United States
CATEGORIES:Golf,Sports
ATTACH;FMTTYPE=image/png:https://www.floridamarvels.com/wp-content/uploads/2026/04/SawgrassPonteVedraBeach_PlayersChampionship_2021-11-10_2021-11-10_1310_11102021_132840_SVGC_tn-UMJBRm.png
GEO:30.2044115;-81.3915931
X-APPLE-STRUCTURED-LOCATION;VALUE=URI;X-ADDRESS=TPC Sawgrass 110 Tpc Blvd Ponte Vedra Beach FL 32082 United States;X-APPLE-RADIUS=500;X-TITLE=110 Tpc Blvd:geo:-81.3915931,30.2044115
END:VEVENT
BEGIN:VEVENT
DTSTART;TZID=America/New_York:20270310T080000
DTEND;TZID=America/New_York:20270310T080000
DTSTAMP:20260423T045313
CREATED:20260408T101701Z
LAST-MODIFIED:20260408T101701Z
UID:10015942-1804665600-1804665600@www.floridamarvels.com
SUMMARY:The Players Championship - Wednesday
DESCRIPTION:Join golf enthusiasts at TPC Sawgrass on Wednesday\, March 10\, 2027\, for The Players Championship. Set against the stunning backdrop of Ponte Vedra Beach\, this prestigious tournament promises a thrilling atmosphere filled with camaraderie and competition.  \nAs the action unfolds\, spectators can expect to witness some of the world’s top golfers vying for glory on one of the most iconic courses in the sport. The event offers a vibrant vibe\, perfect for fans looking to immerse themselves in the excitement of elite golf.  \nHighlights of the day will include the chance to engage with fellow fans\, enjoy delicious food options\, and soak in the sun while cheering on favorite players. Whether a seasoned golf aficionado or a newcomer to the sport\, attendees will find the experience unforgettable. \nMark your calendars and don’t miss this opportunity to be part of a remarkable day at TPC Sawgrass. Grab your tickets and get ready for an incredible day of golf.
URL:https://www.floridamarvels.com/event/the-players-championship-wednesday-2/
LOCATION:TPC Sawgrass\, 110 Tpc Blvd\, Ponte Vedra Beach\, FL\, 32082\, United States
CATEGORIES:Golf,Sports
ATTACH;FMTTYPE=image/png:https://www.floridamarvels.com/wp-content/uploads/2026/04/SawgrassPonteVedraBeach_PlayersChampionship_2021-11-10_2021-11-10_1310_11102021_132840_SVGC_tn-UMJBRm.png
GEO:30.2044115;-81.3915931
X-APPLE-STRUCTURED-LOCATION;VALUE=URI;X-ADDRESS=TPC Sawgrass 110 Tpc Blvd Ponte Vedra Beach FL 32082 United States;X-APPLE-RADIUS=500;X-TITLE=110 Tpc Blvd:geo:-81.3915931,30.2044115
END:VEVENT
BEGIN:VEVENT
DTSTART;TZID=America/New_York:20270311T080000
DTEND;TZID=America/New_York:20270311T080000
DTSTAMP:20260423T045313
CREATED:20260408T101628Z
LAST-MODIFIED:20260408T101628Z
UID:10015947-1804752000-1804752000@www.floridamarvels.com
SUMMARY:The Players Championship - Thursday
DESCRIPTION:Join golf enthusiasts at TPC Sawgrass on Thursday\, March 11\, 2027\, for an exciting day at The Players Championship. Starting at 8:00 AM\, this prestigious tournament promises an electric atmosphere filled with the thrill of competition and camaraderie among fans and players alike. \nAttendees can expect a vibrant vibe\, surrounded by the natural beauty of Ponte Vedra Beach. As the world’s top golfers showcase their skills\, spectators will enjoy stunning views from the iconic course\, creating unforgettable moments. The event highlights include breathtaking shots\, strategic play\, and the chance to witness golf history in the making. \nWhether you’re a seasoned fan or new to the game\, the day offers an opportunity to connect with fellow golf lovers and soak in the excitement of one of the sport’s premier events. With food\, drinks\, and plenty of activities throughout the venue\, there’s something for everyone. \nDon’t miss this chance to be part of a tradition that celebrates the spirit of golf. Grab your tickets and prepare for a memorable day at TPC Sawgrass!
URL:https://www.floridamarvels.com/event/the-players-championship-thursday-2/
LOCATION:TPC Sawgrass\, 110 Tpc Blvd\, Ponte Vedra Beach\, FL\, 32082\, United States
CATEGORIES:Golf,Sports
ATTACH;FMTTYPE=image/png:https://www.floridamarvels.com/wp-content/uploads/2026/04/SawgrassPonteVedraBeach_PlayersChampionship_2021-11-10_2021-11-10_1310_11102021_132840_SVGC_tn-UMJBRm.png
GEO:30.2044115;-81.3915931
X-APPLE-STRUCTURED-LOCATION;VALUE=URI;X-ADDRESS=TPC Sawgrass 110 Tpc Blvd Ponte Vedra Beach FL 32082 United States;X-APPLE-RADIUS=500;X-TITLE=110 Tpc Blvd:geo:-81.3915931,30.2044115
END:VEVENT
BEGIN:VEVENT
DTSTART;TZID=America/New_York:20270312T080000
DTEND;TZID=America/New_York:20270312T080000
DTSTAMP:20260423T045313
CREATED:20260408T101634Z
LAST-MODIFIED:20260408T101634Z
UID:10015944-1804838400-1804838400@www.floridamarvels.com
SUMMARY:The Players Championship - Friday
DESCRIPTION:Join the excitement at The Players Championship on Friday\, March 12\, 2027\, at TPC Sawgrass in Ponte Vedra Beach. This prestigious golf tournament promises a vibrant atmosphere filled with thrilling competition and camaraderie among fans. \nAs the world’s top golfers take to the iconic course\, spectators can expect an exhilarating day of skillful play\, stunning drives\, and nail-biting putts. With picturesque views and a lively crowd\, the energy at TPC Sawgrass is palpable\, making it an unforgettable experience for both avid golf enthusiasts and casual fans alike. \nBeyond the action on the greens\, attendees will enjoy lively concessions\, interactive fan experiences\, and the chance to connect with fellow golf lovers. Each hole offers a unique vantage point\, ensuring that every moment is filled with excitement and anticipation. \nDon’t miss the opportunity to witness world-class talent in a breathtaking setting. Grab your tickets and be part of the unforgettable atmosphere at The Players Championship!
URL:https://www.floridamarvels.com/event/the-players-championship-friday-2/
LOCATION:TPC Sawgrass\, 110 Tpc Blvd\, Ponte Vedra Beach\, FL\, 32082\, United States
CATEGORIES:Golf,Sports
ATTACH;FMTTYPE=image/png:https://www.floridamarvels.com/wp-content/uploads/2026/04/SawgrassPonteVedraBeach_PlayersChampionship_2021-11-10_2021-11-10_1310_11102021_132840_SVGC_tn-UMJBRm.png
GEO:30.2044115;-81.3915931
X-APPLE-STRUCTURED-LOCATION;VALUE=URI;X-ADDRESS=TPC Sawgrass 110 Tpc Blvd Ponte Vedra Beach FL 32082 United States;X-APPLE-RADIUS=500;X-TITLE=110 Tpc Blvd:geo:-81.3915931,30.2044115
END:VEVENT
BEGIN:VEVENT
DTSTART;TZID=America/New_York:20270313T080000
DTEND;TZID=America/New_York:20270313T080000
DTSTAMP:20260423T045313
CREATED:20260408T101630Z
LAST-MODIFIED:20260408T101630Z
UID:10015946-1804924800-1804924800@www.floridamarvels.com
SUMMARY:The Players Championship - Saturday
DESCRIPTION:Join golf enthusiasts at TPC Sawgrass in Ponte Vedra Beach for an unforgettable Saturday at The Players Championship on March 13\, 2027. As the sun rises over the iconic course\, attendees can expect an electric atmosphere filled with excitement and camaraderie.  \nFans will have the chance to witness some of the world’s best golfers showcasing their skills on one of the sport’s most celebrated stages. With stunning views and a vibrant crowd\, the event promises to deliver thrilling moments and unforgettable experiences\, from the challenging 17th hole to engaging fan zones. \nWhether you’re a seasoned golfer or new to the game\, this championship day offers the perfect blend of competitive spirit and community celebration. Relax in the beautiful surroundings\, enjoy local food vendors\, and soak in the lively ambiance that makes this event a highlight of the golf calendar. \nDon’t miss the chance to be part of this extraordinary day. Grab your tickets and experience the excitement of The Players Championship!
URL:https://www.floridamarvels.com/event/the-players-championship-saturday-2/
LOCATION:TPC Sawgrass\, 110 Tpc Blvd\, Ponte Vedra Beach\, FL\, 32082\, United States
CATEGORIES:Golf,Sports
ATTACH;FMTTYPE=image/png:https://www.floridamarvels.com/wp-content/uploads/2026/04/SawgrassPonteVedraBeach_PlayersChampionship_2021-11-10_2021-11-10_1310_11102021_132840_SVGC_tn-UMJBRm.png
GEO:30.2044115;-81.3915931
X-APPLE-STRUCTURED-LOCATION;VALUE=URI;X-ADDRESS=TPC Sawgrass 110 Tpc Blvd Ponte Vedra Beach FL 32082 United States;X-APPLE-RADIUS=500;X-TITLE=110 Tpc Blvd:geo:-81.3915931,30.2044115
END:VEVENT
BEGIN:VEVENT
DTSTART;TZID=America/New_York:20270314T080000
DTEND;TZID=America/New_York:20270314T080000
DTSTAMP:20260423T045313
CREATED:20260408T101635Z
LAST-MODIFIED:20260408T101635Z
UID:10015943-1805011200-1805011200@www.floridamarvels.com
SUMMARY:The Players Championship - Sunday
DESCRIPTION:Join golf enthusiasts and fans for an unforgettable Sunday at The Players Championship on March 14\, 2027\, starting at 8:00 AM. Set against the stunning backdrop of TPC Sawgrass in Ponte Vedra Beach\, this event promises an exhilarating day filled with world-class competition and vibrant camaraderie.  \nAttendees can expect an electric atmosphere as top golfers take to the iconic course\, showcasing their skills on the challenging 17th hole\, known for its dramatic island green. With a variety of dining and entertainment options available\, guests will enjoy a full day of excitement\, whether they’re cheering on their favorites or soaking in the lively surroundings. \nThis is more than just a tournament; it’s a celebration of the sport and its community. Experience the thrill of professional golf while mingling with fellow fans and creating lasting memories.  \nDon’t miss out on this premier event in Ponte Vedra Beach. Grab your tickets and be part of the action!
URL:https://www.floridamarvels.com/event/the-players-championship-sunday-2/
LOCATION:TPC Sawgrass\, 110 Tpc Blvd\, Ponte Vedra Beach\, FL\, 32082\, United States
CATEGORIES:Golf,Sports
ATTACH;FMTTYPE=image/png:https://www.floridamarvels.com/wp-content/uploads/2026/04/SawgrassPonteVedraBeach_PlayersChampionship_2021-11-10_2021-11-10_1310_11102021_132840_SVGC_tn-UMJBRm.png
GEO:30.2044115;-81.3915931
X-APPLE-STRUCTURED-LOCATION;VALUE=URI;X-ADDRESS=TPC Sawgrass 110 Tpc Blvd Ponte Vedra Beach FL 32082 United States;X-APPLE-RADIUS=500;X-TITLE=110 Tpc Blvd:geo:-81.3915931,30.2044115
END:VEVENT
END:VCALENDAR